BEGIN:VCALENDAR
VERSION:2.0
PRODID:-//ShoreBread Eastern Shore Lifestyle Magazine - ECPv5.3.1.1//NONSGML v1.0//EN
CALSCALE:GREGORIAN
METHOD:PUBLISH
X-WR-CALNAME:ShoreBread Eastern Shore Lifestyle Magazine
X-ORIGINAL-URL:https://shorebread.com
X-WR-CALDESC:Events for ShoreBread Eastern Shore Lifestyle Magazine
BEGIN:VTIMEZONE
TZID:America/New_York
BEGIN:DAYLIGHT
TZOFFSETFROM:-0500
TZOFFSETTO:-0400
TZNAME:EDT
DTSTART:20210314T070000
END:DAYLIGHT
BEGIN:STANDARD
TZOFFSETFROM:-0400
TZOFFSETTO:-0500
TZNAME:EST
DTSTART:20211107T060000
END:STANDARD
END:VTIMEZONE
BEGIN:VEVENT
DTSTART;TZID=America/New_York:20210421T180000
DTEND;TZID=America/New_York:20210421T200000
DTSTAMP:20260421T074554
CREATED:20210115T213024Z
LAST-MODIFIED:20210212T092529Z
UID:3838145-1619028000-1619035200@shorebread.com
SUMMARY:Barn Hill Bingo
DESCRIPTION:Have you been looking for something fun and safe to do with your friends on a Wednesday night?  You have just found it\, Barn Bill Bingo! Barn Hill Bingo is at Alley Oops Midtown every third Wednesday from 6:00 pm to 8:00 pm.\n \n \n 
URL:https://shorebread.com/event/barn-hill-bingo-4/
LOCATION:Alley Oops Midtown\, 5509 Coastal Hwy\, Ocean City\, MD\, 21842\, United States
ATTACH;FMTTYPE=image/jpeg:/wp-content/uploads/2021/01/bingo_card_and_chips_84083797-3.jpg
END:VEVENT
END:VCALENDAR