BEGIN:VCALENDAR
VERSION:2.0
PRODID:-//ShoreBread Eastern Shore Lifestyle Magazine - ECPv5.3.1.1//NONSGML v1.0//EN
CALSCALE:GREGORIAN
METHOD:PUBLISH
X-WR-CALNAME:ShoreBread Eastern Shore Lifestyle Magazine
X-ORIGINAL-URL:https://shorebread.com
X-WR-CALDESC:Events for ShoreBread Eastern Shore Lifestyle Magazine
BEGIN:VTIMEZONE
TZID:America/New_York
BEGIN:DAYLIGHT
TZOFFSETFROM:-0500
TZOFFSETTO:-0400
TZNAME:EDT
DTSTART:20160313T070000
END:DAYLIGHT
BEGIN:STANDARD
TZOFFSETFROM:-0400
TZOFFSETTO:-0500
TZNAME:EST
DTSTART:20161106T060000
END:STANDARD
END:VTIMEZONE
BEGIN:VEVENT
DTSTART;TZID=America/New_York:20160521T080000
DTEND;TZID=America/New_York:20160521T163000
DTSTAMP:20260420T034829
CREATED:20160504T183132Z
LAST-MODIFIED:20160504T183132Z
UID:3700698-1463817600-1463848200@shorebread.com
SUMMARY:Centennial Bio Blitz
DESCRIPTION:Maryland Coastal Bays and the annual Great Worcester Herp Search will join forces with the National Park Service for the BioBlitz Fun Day on Saturday\, May 21. Teams will be formed (you can either sign up for a team or be assigned to a team) to identify park species\, including birds\, plants\, reptiles\, amphibians\, GIS\, shells\, beach intertidal zone sampling\, butterflies\, and flying insects. The morning session begins at 9am\, with an afternoon session to follow at 1pm. Pre-register before May 6 and you’ll receive a free hot dog lunch. To pre-register\, contact Kelly Taylor atKelly_Taylor@nps.gov. On-site team registration will take place at 8am at the North Beach Picnic Pavilion.
URL:https://shorebread.com/event/centennial-bio-blitz/
LOCATION:Assateague Island National Seashore
ORGANIZER;CN="National%20Park%20Service":MAILTO:Kelly_Taylor@nps.gov
END:VEVENT
END:VCALENDAR