BEGIN:VCALENDAR
VERSION:2.0
PRODID:-//ShoreBread Eastern Shore Lifestyle Magazine - ECPv5.3.1.1//NONSGML v1.0//EN
CALSCALE:GREGORIAN
METHOD:PUBLISH
X-WR-CALNAME:ShoreBread Eastern Shore Lifestyle Magazine
X-ORIGINAL-URL:https://shorebread.com
X-WR-CALDESC:Events for ShoreBread Eastern Shore Lifestyle Magazine
BEGIN:VTIMEZONE
TZID:America/New_York
BEGIN:DAYLIGHT
TZOFFSETFROM:-0500
TZOFFSETTO:-0400
TZNAME:EDT
DTSTART:20160313T070000
END:DAYLIGHT
BEGIN:STANDARD
TZOFFSETFROM:-0400
TZOFFSETTO:-0500
TZNAME:EST
DTSTART:20161106T060000
END:STANDARD
END:VTIMEZONE
BEGIN:VEVENT
DTSTART;TZID=America/New_York:20161012T160000
DTEND;TZID=America/New_York:20161012T173000
DTSTAMP:20260426T001717
CREATED:20161009T091111Z
LAST-MODIFIED:20161009T091111Z
UID:3707817-1476288000-1476293400@shorebread.com
SUMMARY:Cheese and Wine of Central Italy Class at Touch of Italy
DESCRIPTION:Experience the diverse and delicious Wine’s & Cheese’s of Central Italy. So whether you love cheese\, and wine or are just looking for a fun afternoon come spend the day at Touch of Italy and let us share our passion with you! \n\n $50 per person
URL:https://shorebread.com/event/cheese-and-wine-of-central-italy-class-at-touch-of-italy/
END:VEVENT
END:VCALENDAR