BEGIN:VCALENDAR
VERSION:2.0
PRODID:-//ShoreBread Eastern Shore Lifestyle Magazine - ECPv5.3.1.1//NONSGML v1.0//EN
CALSCALE:GREGORIAN
METHOD:PUBLISH
X-WR-CALNAME:ShoreBread Eastern Shore Lifestyle Magazine
X-ORIGINAL-URL:https://shorebread.com
X-WR-CALDESC:Events for ShoreBread Eastern Shore Lifestyle Magazine
BEGIN:VTIMEZONE
TZID:America/New_York
BEGIN:DAYLIGHT
TZOFFSETFROM:-0500
TZOFFSETTO:-0400
TZNAME:EDT
DTSTART:20170312T070000
END:DAYLIGHT
BEGIN:STANDARD
TZOFFSETFROM:-0400
TZOFFSETTO:-0500
TZNAME:EST
DTSTART:20171105T060000
END:STANDARD
END:VTIMEZONE
BEGIN:VEVENT
DTSTART;TZID=America/New_York:20170122T110000
DTEND;TZID=America/New_York:20170122T140000
DTSTAMP:20260421T162256
CREATED:20170122T211112Z
LAST-MODIFIED:20170122T211112Z
UID:3708878-1485082800-1485093600@shorebread.com
SUMMARY:Everett Spells at Fager's Island
DESCRIPTION:Everett A. Spells is a multi-instrumental Jazz Saxophone Player. Growing up in Newport News\, Virginia\, Everett has performed with such greats as Frank Foster\, Dr. Billy Taylor\, Dr. Burgess Gardner\, Consuella Moorehead\, Bill Lee\, Steve Wilson\, Billy Drummond\, Gary Harris\, and the Wooten Brothers.\n 
URL:https://shorebread.com/event/everett-spells-at-fagers-island-2/
END:VEVENT
END:VCALENDAR