BEGIN:VCALENDAR
VERSION:2.0
PRODID:-//ShoreBread Eastern Shore Lifestyle Magazine - ECPv5.3.1.1//NONSGML v1.0//EN
CALSCALE:GREGORIAN
METHOD:PUBLISH
X-WR-CALNAME:ShoreBread Eastern Shore Lifestyle Magazine
X-ORIGINAL-URL:https://shorebread.com
X-WR-CALDESC:Events for ShoreBread Eastern Shore Lifestyle Magazine
BEGIN:VTIMEZONE
TZID:America/New_York
BEGIN:DAYLIGHT
TZOFFSETFROM:-0500
TZOFFSETTO:-0400
TZNAME:EDT
DTSTART:20160313T070000
END:DAYLIGHT
BEGIN:STANDARD
TZOFFSETFROM:-0400
TZOFFSETTO:-0500
TZNAME:EST
DTSTART:20161106T060000
END:STANDARD
END:VTIMEZONE
BEGIN:VEVENT
DTSTART;TZID=America/New_York:20160514T090000
DTEND;TZID=America/New_York:20160514T150000
DTSTAMP:20260423T222535
CREATED:20160504T180456Z
LAST-MODIFIED:20160504T180456Z
UID:3700691-1463216400-1463238000@shorebread.com
SUMMARY:Maritime Day in Lewes
DESCRIPTION:Free and open to the public\, the annual Maritime Day in Lewes includes vessel tours\, a maritime history talk\, a Lewes fire boat water cannon display\, exhibits and more. For more information\, visit www.capemaylewesferry.com.
URL:https://shorebread.com/event/maritime-day-in-lewes/
LOCATION:Lewes Ferry Terminal\, 43 Cape Henlopen Drive \, Lewes \, DE\, 19958\, United States
END:VEVENT
END:VCALENDAR