BEGIN:VCALENDAR
VERSION:2.0
PRODID:-//ShoreBread Eastern Shore Lifestyle Magazine - ECPv5.3.1.1//NONSGML v1.0//EN
CALSCALE:GREGORIAN
METHOD:PUBLISH
X-WR-CALNAME:ShoreBread Eastern Shore Lifestyle Magazine
X-ORIGINAL-URL:https://shorebread.com
X-WR-CALDESC:Events for ShoreBread Eastern Shore Lifestyle Magazine
BEGIN:VTIMEZONE
TZID:America/New_York
BEGIN:DAYLIGHT
TZOFFSETFROM:-0500
TZOFFSETTO:-0400
TZNAME:EDT
DTSTART:20160313T070000
END:DAYLIGHT
BEGIN:STANDARD
TZOFFSETFROM:-0400
TZOFFSETTO:-0500
TZNAME:EST
DTSTART:20161106T060000
END:STANDARD
END:VTIMEZONE
BEGIN:VEVENT
DTSTART;TZID=America/New_York:20160514T090000
DTEND;TZID=America/New_York:20160514T130000
DTSTAMP:20260423T222613
CREATED:20160509T191556Z
LAST-MODIFIED:20160509T191556Z
UID:3700719-1463216400-1463230800@shorebread.com
SUMMARY:Paws & Claws Yard Sale
DESCRIPTION:Paws & Claws is holding a yard sale to benefit Worcester County Humane Society on Saturday\, May 14 from 9am to 1 pm at their West OC location (11934 Ocean Gateway).  Those interested in setting up a table to sell items will donate 20% of sales to the no-kill shelter.  There will be no set up fee.  To reserve a spot to sell your gently used items call Jan at 410-213-7490.  The yard sale will go on rain or shine.
URL:https://shorebread.com/event/paws-claws-yard-sale/
LOCATION:Paws & Claws\, 11934 Ocean Gateway \, Ocean City\, MD\, 21842\, United States
END:VEVENT
END:VCALENDAR