BEGIN:VCALENDAR
VERSION:2.0
PRODID:-//ShoreBread Eastern Shore Lifestyle Magazine - ECPv5.3.1.1//NONSGML v1.0//EN
CALSCALE:GREGORIAN
METHOD:PUBLISH
X-WR-CALNAME:ShoreBread Eastern Shore Lifestyle Magazine
X-ORIGINAL-URL:https://shorebread.com
X-WR-CALDESC:Events for ShoreBread Eastern Shore Lifestyle Magazine
BEGIN:VTIMEZONE
TZID:America/New_York
BEGIN:DAYLIGHT
TZOFFSETFROM:-0500
TZOFFSETTO:-0400
TZNAME:EDT
DTSTART:20160313T070000
END:DAYLIGHT
BEGIN:STANDARD
TZOFFSETFROM:-0400
TZOFFSETTO:-0500
TZNAME:EST
DTSTART:20161106T060000
END:STANDARD
END:VTIMEZONE
BEGIN:VEVENT
DTSTART;TZID=America/New_York:20160521T130000
DTEND;TZID=America/New_York:20160521T160000
DTSTAMP:20260420T004302
CREATED:20160420T134120Z
LAST-MODIFIED:20160420T134120Z
UID:3700552-1463835600-1463846400@shorebread.com
SUMMARY:Veteran's Appreciation Day
DESCRIPTION:Poplar Hill Mansion is honoring members of the Armed Forces on May 21 for Veteran’s Appreciation Day. Veterans and their families\, as well as the public\, will gather for the event\, which will also honor the 50th anniversary of the Vietnam War. This event is free and open to the public. A small reception will follow and will include light refreshments. For more information or to RSVP\, call 410-749-5168. Guests are also encouraged to bring items for Operation We Care packages.
URL:https://shorebread.com/event/veterans-appreciation-day/
LOCATION:Poplar Hill Mansion\, 117 Elizabeth Street \, Salisbury \, MD\, 21801\, United States
ORGANIZER;CN="Aleta%20Davis":MAILTO:allmanor@comcast.net
END:VEVENT
END:VCALENDAR