BEGIN:VCALENDAR
VERSION:2.0
PRODID:-//ShoreBread Eastern Shore Lifestyle Magazine - ECPv5.3.1.1//NONSGML v1.0//EN
CALSCALE:GREGORIAN
METHOD:PUBLISH
X-WR-CALNAME:ShoreBread Eastern Shore Lifestyle Magazine
X-ORIGINAL-URL:https://shorebread.com
X-WR-CALDESC:Events for ShoreBread Eastern Shore Lifestyle Magazine
BEGIN:VTIMEZONE
TZID:America/New_York
BEGIN:DAYLIGHT
TZOFFSETFROM:-0500
TZOFFSETTO:-0400
TZNAME:EDT
DTSTART:20210314T070000
END:DAYLIGHT
BEGIN:STANDARD
TZOFFSETFROM:-0400
TZOFFSETTO:-0500
TZNAME:EST
DTSTART:20211107T060000
END:STANDARD
END:VTIMEZONE
BEGIN:VEVENT
DTSTART;TZID=America/New_York:20210416T173000
DTEND;TZID=America/New_York:20210416T183000
DTSTAMP:20260421T040509
CREATED:20210202T212543Z
LAST-MODIFIED:20210212T092528Z
UID:3838467-1618594200-1618597800@shorebread.com
SUMMARY:YouYoga SaltYoga Practice in Himalayan Salt Room
DESCRIPTION:Friday evenings from 5:30pm-6:30pm\, start your weekend off by balancing your body\, mind & spirit to find ease and stillness to allow optimal health to flourish. The salt room provides healing salt. All levels welcome! \nInstructor: Jenny Lind\, RYT 500. \n$15.00 Drop-in fee. Mats are provided.\n \n 
URL:https://shorebread.com/event/youyoga-saltyoga-practice-in-himalayan-salt-room-11/
LOCATION:Ocean Elements Salt Spa & Float Center\, 11934 Ocean Gateway\, Ocean City\, MD\, 21842\, United States
ATTACH;FMTTYPE=image/jpeg:/wp-content/uploads/2021/02/yoga_517334545-10.jpg
END:VEVENT
END:VCALENDAR